BEGIN:VCALENDAR
VERSION:2.0
BEGIN:VEVENT
URL:https://potprtcttickets.bigredbash.com.au/outlet/event/f77a011a-88ce-45ca-b0b1-98c36b59f85d
DTSTART:20260704T230000Z
DTEND:20260708T230000Z
SUMMARY:CANCELLED - Birdsville Big Red Bash Rock 'n' Roll Bus Packages
DESCRIPTION:Event details: https://potprtcttickets.bigredbash.com.au/outlet/event/f77a011a-88ce-45ca-b0b1-98c36b59f85d
LOCATION:Big Red Dune, (Birdsville) (Birdsville, QLD)
END:VEVENT
END:VCALENDAR